BEGIN:VCALENDAR
VERSION:2.0
PRODID:-//wp-events-plugin.com//7.2.3.1//EN
TZID:America/Vancouver
X-WR-TIMEZONE:America/Vancouver
BEGIN:VEVENT
UID:281@westshorearts.org
DTSTART;TZID=America/Vancouver:20190915T150000
DTEND;TZID=America/Vancouver:20190915T180000
DTSTAMP:20190909T042153Z
URL:https://westshorearts.org/events/2019-lantern-making-workshops/
SUMMARY:2019 Lantern-making Workshops
DESCRIPTION:Join us for another wonderful experience of seeing the Westhill
 s glowing with all types of light\, and experiencing great music\, dancing
 \, and other activities\, all brought to you by the West Shore Arts Counci
 l!  The 2019 Light Up The Hills lantern festival is fun for all ages!
ATTACH;FMTTYPE=image/jpeg:https://westshorearts.org/web/wp-content/uploads
 /2018/08/lg-BoysLanterns.jpg
LOCATION:Victoria Conservatory of Music - Westhills\, 1314 Lakepoint Way\, 
 Langford\, BC\, Canada
GEO:48.4455469;-123.53369199999997
X-APPLE-STRUCTURED-LOCATION;VALUE=URI;X-ADDRESS=1314 Lakepoint Way\, Langfo
 rd\, BC\, Canada;X-APPLE-RADIUS=100;X-TITLE=Victoria Conservatory of Music
  - Westhills:geo:48.4455469,-123.53369199999997
END:VEVENT
BEGIN:VTIMEZONE
TZID:America/Vancouver
X-LIC-LOCATION:America/Vancouver
BEGIN:DAYLIGHT
DTSTART:20190310T030000
TZOFFSETFROM:-0800
TZOFFSETTO:-0700
TZNAME:PDT
END:DAYLIGHT
END:VTIMEZONE
END:VCALENDAR