BEGIN:VCALENDAR
VERSION:2.0
PRODID:-//wp-events-plugin.com//7.2.3.1//EN
TZID:America/Vancouver
X-WR-TIMEZONE:America/Vancouver
BEGIN:VEVENT
UID:280@westshorearts.org
DTSTART;TZID=America/Vancouver:20190921T193000
DTEND;TZID=America/Vancouver:20190921T213000
DTSTAMP:20190920T155921Z
URL:https://westshorearts.org/events/light-up-the-hills-2/
SUMMARY:Light Up the Hills
DESCRIPTION:The Westhills community is hosting our fourth annual Light Up t
 he Hills festival which brings over 3\,000 people to the Westhills communi
 ty. Light Up the Hills\, presented by the West Shore Arts Council and spon
 sored by Westhills\, is a family-friendly outdoor festival of light held a
 fter dark\, that features illuminated artworks that creates a spectacular 
 glowing effect throughout the community. Event participants walk along a d
 esignated path\, passing by various performances and artworks\, and bring 
 their own hand-made lanterns to guide their way. This community-focused ev
 ent aims to showcase the creativity of local artists\, musicians\, and per
 formers.
ATTACH;FMTTYPE=image/jpeg:https://westshorearts.org/web/wp-content/uploads
 /2019/07/LightUpTheHills_WebsiteTile.jpg
LOCATION:Belmont Secondary School\, 3041 Langford Lake Rd\, Langford\, BC\,
  V9B 0L0\, Canada
GEO:48.4425481;-123.5294283
X-APPLE-STRUCTURED-LOCATION;VALUE=URI;X-ADDRESS=3041 Langford Lake Rd\, Lan
 gford\, BC\, V9B 0L0\, Canada;X-APPLE-RADIUS=100;X-TITLE=Belmont Secondary
  School:geo:48.4425481,-123.5294283
END:VEVENT
BEGIN:VTIMEZONE
TZID:America/Vancouver
X-LIC-LOCATION:America/Vancouver
BEGIN:DAYLIGHT
DTSTART:20190310T030000
TZOFFSETFROM:-0800
TZOFFSETTO:-0700
TZNAME:PDT
END:DAYLIGHT
END:VTIMEZONE
END:VCALENDAR