BEGIN:VCALENDAR
VERSION:2.0
PRODID:-//wp-events-plugin.com//7.2.3.1//EN
TZID:America/Vancouver
X-WR-TIMEZONE:America/Vancouver
BEGIN:VEVENT
UID:437@westshorearts.org
DTSTART;TZID=America/Vancouver:20250422T110000
DTEND;TZID=America/Vancouver:20250422T150000
DTSTAMP:20250417T224926Z
URL:https://westshorearts.org/events/metchosin-ocean-art-walk/
SUMMARY:Metchosin Ocean Art Walk
DESCRIPTION:Metchosin Ocean Art Walk:\nA walk through a spectacular rural a
 nd ocean landscape\, with stations featuring art exhibitions\, events\, an
 d activities.\nFree — all welcome.
LOCATION:Metchosin Artpod\, 4495 Happy Valley Rd\, Metchosin\, BC\, V9C 3Z3
 \, Canada
GEO:48.380443;-123.532248
X-APPLE-STRUCTURED-LOCATION;VALUE=URI;X-ADDRESS=4495 Happy Valley Rd\, Metc
 hosin\, BC\, V9C 3Z3\, Canada;X-APPLE-RADIUS=100;X-TITLE=Metchosin Artpod:
 geo:48.380443,-123.532248
END:VEVENT
BEGIN:VTIMEZONE
TZID:America/Vancouver
X-LIC-LOCATION:America/Vancouver
BEGIN:DAYLIGHT
DTSTART:20250309T030000
TZOFFSETFROM:-0800
TZOFFSETTO:-0700
TZNAME:PDT
END:DAYLIGHT
END:VTIMEZONE
END:VCALENDAR