BEGIN:VCALENDAR
VERSION:2.0
PRODID:-//wp-events-plugin.com//7.2.3.1//EN
TZID:America/Vancouver
X-WR-TIMEZONE:America/Vancouver
BEGIN:VEVENT
UID:342@westshorearts.org
DTSTART;TZID=America/Vancouver:20240817T110000
DTEND;TZID=America/Vancouver:20240818T180000
DTSTAMP:20240811T224205Z
URL:https://westshorearts.org/events/richmond-art-walk/
SUMMARY:Richmond Art Walk
DESCRIPTION:Explore the Vibrant Heart of Richmond's Art Scene: The Richmond
  Art Walk August 17-18\, 2024
LOCATION:Lipont Gallery\, Richmond\, 4211 No. 3 Road \, Richmond\, BC\, V6X
  2C3\, Canada
GEO:49.183074;-123.137392
X-APPLE-STRUCTURED-LOCATION;VALUE=URI;X-ADDRESS=4211 No. 3 Road \, Richmond
 \, BC\, V6X 2C3\, Canada;X-APPLE-RADIUS=100;X-TITLE=Lipont Gallery\, Richm
 ond:geo:49.183074,-123.137392
END:VEVENT
BEGIN:VTIMEZONE
TZID:America/Vancouver
X-LIC-LOCATION:America/Vancouver
BEGIN:DAYLIGHT
DTSTART:20240310T030000
TZOFFSETFROM:-0800
TZOFFSETTO:-0700
TZNAME:PDT
END:DAYLIGHT
END:VTIMEZONE
END:VCALENDAR