BEGIN:VCALENDAR
VERSION:2.0
PRODID:-//wp-events-plugin.com//7.2.3.1//EN
TZID:America/Vancouver
X-WR-TIMEZONE:America/Vancouver
BEGIN:VEVENT
UID:438@westshorearts.org
DTSTART;TZID=America/Vancouver:20250508T120000
DTEND;TZID=America/Vancouver:20250525T160000
DTSTAMP:20250513T233717Z
URL:https://westshorearts.org/events/sky-weir-reactive-patterning/
SUMMARY:Sky Weir: Reactive Patterning
DESCRIPTION:Handcrafted patterns on natural fabrics by textile artist\, edu
 cator\, and designer Sky Weir are featured in this exclusive exhibition at
  Colwood's newest art gallery.
LOCATION:Arts and Culture Colwood Society\, 170 Goldfinch Road \, Colwood\,
  British Columbia\, V9C 3M8\, Canada
GEO:48.419429;-123.474658
X-APPLE-STRUCTURED-LOCATION;VALUE=URI;X-ADDRESS=170 Goldfinch Road \, Colwo
 od\, British Columbia\, V9C 3M8\, Canada;X-APPLE-RADIUS=100;X-TITLE=Arts a
 nd Culture Colwood Society:geo:48.419429,-123.474658
END:VEVENT
BEGIN:VTIMEZONE
TZID:America/Vancouver
X-LIC-LOCATION:America/Vancouver
BEGIN:DAYLIGHT
DTSTART:20250309T030000
TZOFFSETFROM:-0800
TZOFFSETTO:-0700
TZNAME:PDT
END:DAYLIGHT
END:VTIMEZONE
END:VCALENDAR