BEGIN:VCALENDAR
VERSION:2.0
PRODID:-//wp-events-plugin.com//7.2.3.1//EN
TZID:America/Vancouver
X-WR-TIMEZONE:America/Vancouver
BEGIN:VEVENT
UID:271@westshorearts.org
DTSTART;TZID=America/Vancouver:20190602T000000
DTEND;TZID=America/Vancouver:20190602T000000
DTSTAMP:20190507T033203Z
URL:https://westshorearts.org/events/sooke-secret-garden-tour-2019/
SUMMARY:Sooke Secret Garden Tour (2019)
DESCRIPTION:The Sooke Secret Garden Tour gives regional gardeners and the c
 urious a rare opportunity to walk through these spaces\, discover new idea
 s for plantings and arrangements and meet the dedicated gardener-owners.
ATTACH;FMTTYPE=image/jpeg:https://westshorearts.org/web/wp-content/uploads
 /2019/05/2019-poster-SSGT-larger.jpg
LOCATION:Sooke\,  \, Sooke\, BC\, Canada
GEO:48.37403459999999;-123.73555390000001
X-APPLE-STRUCTURED-LOCATION;VALUE=URI;X-ADDRESS= \, Sooke\, BC\, Canada;X-A
 PPLE-RADIUS=100;X-TITLE=Sooke:geo:48.37403459999999,-123.73555390000001
END:VEVENT
BEGIN:VTIMEZONE
TZID:America/Vancouver
X-LIC-LOCATION:America/Vancouver
BEGIN:DAYLIGHT
DTSTART:20190310T030000
TZOFFSETFROM:-0800
TZOFFSETTO:-0700
TZNAME:PDT
END:DAYLIGHT
END:VTIMEZONE
END:VCALENDAR