BEGIN:VCALENDAR
VERSION:2.0
PRODID:-//wp-events-plugin.com//7.2.3.1//EN
TZID:America/Vancouver
X-WR-TIMEZONE:America/Vancouver
BEGIN:VEVENT
UID:486@westshorearts.org
DTSTART;TZID=America/Vancouver:20260411T140000
DTEND;TZID=America/Vancouver:20260411T160000
DTSTAMP:20260331T030125Z
URL:https://westshorearts.org/events/the-art-of-seeing-a-panel-presentatio
 n/
SUMMARY:The Art of Seeing - A Panel Presentation
DESCRIPTION:The Art of Seeing - Panel presentation Sat April 11\, 2-4 pm\n
LOCATION:Metchosin Artpod\, 4495 Happy Valley Rd\, Metchosin\, BC\, V9C 3Z3
 \, Canada
GEO:48.380443;-123.532248
X-APPLE-STRUCTURED-LOCATION;VALUE=URI;X-ADDRESS=4495 Happy Valley Rd\, Metc
 hosin\, BC\, V9C 3Z3\, Canada;X-APPLE-RADIUS=100;X-TITLE=Metchosin Artpod:
 geo:48.380443,-123.532248
END:VEVENT
BEGIN:VTIMEZONE
TZID:America/Vancouver
X-LIC-LOCATION:America/Vancouver
BEGIN:DAYLIGHT
DTSTART:20260308T030000
TZOFFSETFROM:-0800
TZOFFSETTO:-0700
TZNAME:PDT
END:DAYLIGHT
END:VTIMEZONE
END:VCALENDAR