BEGIN:VCALENDAR
VERSION:2.0
PRODID:-//wp-events-plugin.com//7.2.3.1//EN
TZID:America/Vancouver
X-WR-TIMEZONE:America/Vancouver
BEGIN:VEVENT
UID:293@westshorearts.org
DTSTART;TZID=America/Vancouver:20201024T130000
DTEND;TZID=America/Vancouver:20201024T170000
DTSTAMP:20201014T011102Z
URL:https://westshorearts.org/events/the-rising-halloween-circus/
SUMMARY:The Rising - Halloween Circus
DESCRIPTION:The West Shore Arts Council has made arrangements for The Risin
 g to perform their new HALLOWEEN CIRCUS show for a select audience. There 
 will be 3 half-hour shows on Saturday\, October 24 at 1:00\, 2:30 and 4:00
  pm. The performances will be held outdoors\, in west Langford and in alig
 nment with Public Health protocols. Tickets are free and are available to 
 Westshore residents. 
ATTACH;FMTTYPE=image/jpeg:https://westshorearts.org/web/wp-content/uploads
 /2020/10/Title-The-Rising-Announcement-v03.jpg
LOCATION:Langford\, Goldstream\, Langford\, BC\, Canada
GEO:48.44970259999999;-123.5029716
X-APPLE-STRUCTURED-LOCATION;VALUE=URI;X-ADDRESS=Goldstream\, Langford\, BC\
 , Canada;X-APPLE-RADIUS=100;X-TITLE=Langford:geo:48.44970259999999,-123.50
 29716
END:VEVENT
BEGIN:VTIMEZONE
TZID:America/Vancouver
X-LIC-LOCATION:America/Vancouver
BEGIN:DAYLIGHT
DTSTART:20200308T030000
TZOFFSETFROM:-0800
TZOFFSETTO:-0700
TZNAME:PDT
END:DAYLIGHT
END:VTIMEZONE
END:VCALENDAR