BEGIN:VCALENDAR
VERSION:2.0
PRODID:-//wp-events-plugin.com//7.2.3.1//EN
TZID:America/Vancouver
X-WR-TIMEZONE:America/Vancouver
BEGIN:VEVENT
UID:278@westshorearts.org
DTSTART;TZID=America/Vancouver:20190619T183000
DTEND;TZID=America/Vancouver:20190619T200000
DTSTAMP:20190610T073114Z
URL:https://westshorearts.org/events/west-shore-arts-council-agm/
SUMMARY:West Shore Arts Council AGM
DESCRIPTION:Save the Date!  June 19 2019  6:30 pm - The West Shore Arts C
 ouncil AGM.\nThe West Shore Arts Council AGM will be held this year on Wed
 nesday June 19 2019\, starting at 6:30 pm at the Victoria Conservatory of 
 Music's Westhills/Langford location 1314 Lakepoint Way\, 2nd floor. \nEnt
 er through the West side of the building\, next to the Greater Victoria Pu
 blic Library.  Free indoor parking with elevator access is also available
  - access using the parkade ramp from the East side of the building. Proce
 ed to the 2nd floor.\nThe AGM will begin at 6:30 pm.\nPlease note:  The W
 SAC is accepting applications for Board members. Please send your expressi
 on of interest\, stating what experience you bring and indicate your motiv
 ation for applying.  Please email expressions of interest by June 16 2019
  to: Christine Bhopalsingh\, President of the WSAC:  Click for Email Lin
 k\n&nbsp\;
LOCATION:Victoria Conservatory of Music - Westhills\, 1314 Lakepoint Way\, 
 Langford\, BC\, Canada
GEO:48.4455469;-123.53369199999997
X-APPLE-STRUCTURED-LOCATION;VALUE=URI;X-ADDRESS=1314 Lakepoint Way\, Langfo
 rd\, BC\, Canada;X-APPLE-RADIUS=100;X-TITLE=Victoria Conservatory of Music
  - Westhills:geo:48.4455469,-123.53369199999997
END:VEVENT
BEGIN:VTIMEZONE
TZID:America/Vancouver
X-LIC-LOCATION:America/Vancouver
BEGIN:DAYLIGHT
DTSTART:20190310T030000
TZOFFSETFROM:-0800
TZOFFSETTO:-0700
TZNAME:PDT
END:DAYLIGHT
END:VTIMEZONE
END:VCALENDAR